BEGIN:VCALENDAR
VERSION:2.0
PRODID:-//Plone.org//NONSGML plone.app.event//EN
X-WR-TIMEZONE:Europe/Berlin
BEGIN:VEVENT
SUMMARY:Hamburg Cruise Days
DTSTART;VALUE=DATE:20250912
DTEND;VALUE=DATE:20250915
DTSTAMP;VALUE=DATE-TIME:20260420T142335Z
UID:4f8d06a6aa5947c6b0f331935b3c22c2@127.0.0.1:8380
CONTACT:Hamburg Tourismus GmbH\, free (optonal paid add-ons)\, German and 
 English
CREATED;VALUE=DATE-TIME:20250723T095640Z
LAST-MODIFIED;VALUE=DATE-TIME:20250723T095649Z
LOCATION:Hamburg
URL:https://www.deutsche-flagge.de/en/news/maritime-calendar/hamburg-cruis
 e-days
END:VEVENT
END:VCALENDAR
