BEGIN:VCALENDAR
VERSION:2.0
PRODID:-//Plone.org//NONSGML plone.app.event//EN
X-WR-TIMEZONE:Europe/Berlin
BEGIN:VEVENT
SUMMARY:HUSUM WIND 2025 - Transforming Energy
DTSTART;VALUE=DATE:20250916
DTEND;VALUE=DATE:20250920
DTSTAMP;VALUE=DATE-TIME:20260420T123545Z
UID:7b9bed80f21e483ca74310044420afe1@127.0.0.1:8380
CONTACT:Messe Husum & Congress GmbH & Co. KG\, between 20 - 349 €\, Germ
 an and English
CREATED;VALUE=DATE-TIME:20250717T071151Z
DESCRIPTION:Information\, inspiration and networking around renewable ener
 gies
LAST-MODIFIED;VALUE=DATE-TIME:20250717T071204Z
LOCATION:Messe Husum & Congress GmbH & Co. KG\, Am Messeplatz 12 – 18\, 
 25813 Husum
URL:https://www.deutsche-flagge.de/en/news/maritime-calendar/husum-wind-20
 25-transforming-energy
END:VEVENT
END:VCALENDAR
