BEGIN:VCALENDAR
VERSION:2.0
PRODID:-//Plone.org//NONSGML plone.app.event//EN
X-WR-TIMEZONE:Europe/Berlin
BEGIN:VEVENT
SUMMARY:London Interational Shipping Week 2025
DTSTART;VALUE=DATE:20250915
DTEND;VALUE=DATE:20250920
DTSTAMP;VALUE=DATE-TIME:20260420T102933Z
UID:68873754de744f65ad369cc1b9231bfa@127.0.0.1:8380
CONTACT:Shipping Innovation Limited and others\, Many events are free of c
 harge (except: LISW Headline Conference and Gala Dinner\, English
CREATED;VALUE=DATE-TIME:20250723T102406Z
LAST-MODIFIED;VALUE=DATE-TIME:20250723T102442Z
LOCATION:London
URL:https://www.deutsche-flagge.de/en/news/maritime-calendar/london-intera
 tional-shipping-week-2025
END:VEVENT
END:VCALENDAR
